BEGIN:VCALENDAR
VERSION:2.0
PRODID:-//Plone.org//NONSGML plone.app.event//EN
X-WR-TIMEZONE:US/Eastern
BEGIN:VEVENT
SUMMARY:LTDL Board Meeting
DTSTART;TZID=US/Eastern:20260421T180000
DTSTAMP:20260421T050150Z
UID:44260a589e5b45ff9b19204d2a829a92@saas_stack_varnish:6080
RRULE:FREQ=MONTHLY;UNTIL=20261215T000000;BYDAY=+3TU
RDATE;TZID=US/Eastern:20200825T000000,20210223T000000
EXDATE;TZID=US/Eastern:20151210T000000,20161013T000000,20170413T000000,201
 71214T000000,20181213T000000,20191217T000000,20200218T000000,20200317T0000
 00,20200421T000000,20200519T000000,20200721T000000,20200818T000000,2020111
 7T000000,20201215T000000,20210119T000000,20210216T000000
CONTACT:Lyons Township District Library\, (989) 855-3414\, lyonslib@hotmai
 l.com
CREATED:20150813T045730Z
DESCRIPTION:The LTDL Board of Trustees' monthly meeting.
LAST-MODIFIED:20251206T181400Z
LOCATION:Lyons Township District Library
URL:https://www.lyons.michlibrary.org/news-events/ltdl-board-meeting
END:VEVENT
BEGIN:VTIMEZONE
TZID:US/Eastern
X-LIC-LOCATION:US/Eastern
BEGIN:DAYLIGHT
DTSTART:20260308T030000
TZNAME:EDT
TZOFFSETFROM:-0500
TZOFFSETTO:-0400
END:DAYLIGHT
END:VTIMEZONE
END:VCALENDAR
